BEGIN:VCALENDAR
VERSION:2.0
PRODID:-// - ECPv5.3.2.1//NONSGML v1.0//EN
CALSCALE:GREGORIAN
METHOD:PUBLISH
X-ORIGINAL-URL:https://www.wittenberge-pioneers.de
X-WR-CALDESC:Veranstaltungen für 
BEGIN:VTIMEZONE
TZID:Europe/Berlin
BEGIN:DAYLIGHT
TZOFFSETFROM:+0100
TZOFFSETTO:+0200
TZNAME:CEST
DTSTART:20190331T010000
END:DAYLIGHT
BEGIN:STANDARD
TZOFFSETFROM:+0200
TZOFFSETTO:+0100
TZNAME:CET
DTSTART:20191027T010000
END:STANDARD
END:VTIMEZONE
BEGIN:VEVENT
DTSTART;TZID=Europe/Berlin:20191129T183000
DTEND;TZID=Europe/Berlin:20191129T210000
DTSTAMP:20260422T192238
CREATED:20191112T123026Z
LAST-MODIFIED:20191112T124604Z
UID:1027-1575052200-1575061200@www.wittenberge-pioneers.de
SUMMARY:Nüscht-Tour rastet in Wittenberge – Lesung am 29. November
DESCRIPTION:Kurz vor dem Jahresende auf zur anderen Elbseite\, die Nüschtler lesen in der Prignitz!\nAm 29. November ist das Nüscht-Team zu Gast im Coworking Space der Alten Ölmühle Wittenberge. An diesem Abend zeigen die Herausgeberin Sibylle Sperling und drei Autoren\, dass die Altmark nicht nur ein Landstrich mit viel Natur zwischen wenig Menschen ist\, sondern dass sich das Nüscht gemausert hat. Und wie hier was los ist!!! Aber wie lebt es sich nach Jahren in der weiten Welt nu uffm platten Land? \nMit einem Augenzwinkern erzählen die Nüschtler von ihren liebenswürdigen manchmal aber auch ruppigen Begegnungen mit Einheimischen. Und sie werden Orte zeigen\, wo die Welt noch in Ordnung und alles andere als stehengeblieben ist. Herausgefunden haben die Lesenden nämlich nach etlichen Jahren Eines: Sie lieben ihre Heimat. Und sie sind sich sicher\, dass sie mit ihrer Lobhudelei auch die Prignitzer anstecken können. Mit im Gepäck haben sie natürlich die fünf altmärkischen Stammvokabeln. \nEingebettet ist die Lesung als Opener am Vorabend des Barcamps.  \nDer Eintritt ist frei\, Beginn ist 19 Uhr\, das Ankommen der Gäste ist ab 18.30 Uhr erlaubt 🙂
URL:https://www.wittenberge-pioneers.de/event/nuescht-tour-rastet-in-wittenberge-lesung/
LOCATION:Coworking Space Wittenberge (im Speicher der Alten Ölmühle)\, Bad Wilsnacker Str. 52\, 2. O.G.\, Wittenberge\, 19322\, Deutschland
CATEGORIES:Lesung,Treffen
ATTACH;FMTTYPE=image/jpeg:https://www.wittenberge-pioneers.de/wp-content/uploads/Lesung_Nüscht_20191129_FOTO_FB.jpg
END:VEVENT
END:VCALENDAR