BEGIN:VCALENDAR
VERSION:2.0
PRODID:-// - ECPv5.3.2.1//NONSGML v1.0//EN
CALSCALE:GREGORIAN
METHOD:PUBLISH
X-ORIGINAL-URL:https://www.wittenberge-pioneers.de
X-WR-CALDESC:Veranstaltungen für 
BEGIN:VTIMEZONE
TZID:Europe/Berlin
BEGIN:DAYLIGHT
TZOFFSETFROM:+0100
TZOFFSETTO:+0200
TZNAME:CEST
DTSTART:20200329T010000
END:DAYLIGHT
BEGIN:STANDARD
TZOFFSETFROM:+0200
TZOFFSETTO:+0100
TZNAME:CET
DTSTART:20201025T010000
END:STANDARD
END:VTIMEZONE
BEGIN:VEVENT
DTSTART;TZID=Europe/Berlin:20200925T190000
DTEND;TZID=Europe/Berlin:20200925T220000
DTSTAMP:20260422T104224
CREATED:20200907T200348Z
LAST-MODIFIED:20200907T200557Z
UID:1970-1601060400-1601071200@www.wittenberge-pioneers.de
SUMMARY:KURZ & REGIONAL - Open Air Kino & Live-Musik
DESCRIPTION:An diesem Abend werden neben Livemusik auch kurze filmische Eindrücke aus der Region gezeigt. Der Safari-Garten ist an diesem Abend erneut Kulisse für  einen Abend mit beschwingter Atmosphäre und feinster Unterhaltung. \nDie Veranstaltung findet im open air im Garten des Stadtsalon Safari statt. Bei Regen muss sie leider ausfallen.\nEine verbindliche Anmeldung ist erforderlich über safari@wittenberge-pioneers.de\nDie Plätze der Veranstaltungen sind coronabedingt limitiert. Eine Anmeldung vorab ist Voraussetzung für den Einlass.\nEintritt ist auf Spendenbasis \nEinlass: 19 Uhr\nBeginn: 19:45 Uhr
URL:https://www.wittenberge-pioneers.de/event/kurz-regional-open-air-kino-live-musik/
LOCATION:Safari Garten\, Bismarckplatz 6\, Wittenberge\, Prignitz\, 19322\, Deutschland
CATEGORIES:Film,Konzert,Open Air,Open Air Kino
ATTACH;FMTTYPE=image/jpeg:https://www.wittenberge-pioneers.de/wp-content/uploads/Garten-Kino-image.jpg
END:VEVENT
END:VCALENDAR