BEGIN:VCALENDAR
VERSION:2.0
PRODID:-// - ECPv5.3.2.1//NONSGML v1.0//EN
CALSCALE:GREGORIAN
METHOD:PUBLISH
X-ORIGINAL-URL:https://www.wittenberge-pioneers.de
X-WR-CALDESC:Veranstaltungen für 
BEGIN:VTIMEZONE
TZID:Europe/Berlin
BEGIN:DAYLIGHT
TZOFFSETFROM:+0100
TZOFFSETTO:+0200
TZNAME:CEST
DTSTART:20190331T010000
END:DAYLIGHT
BEGIN:STANDARD
TZOFFSETFROM:+0200
TZOFFSETTO:+0100
TZNAME:CET
DTSTART:20191027T010000
END:STANDARD
END:VTIMEZONE
BEGIN:VEVENT
DTSTART;TZID=Europe/Berlin:20191120T183000
DTEND;TZID=Europe/Berlin:20191120T210000
DTSTAMP:20260421T114324
CREATED:20191028T154643Z
LAST-MODIFIED:20191103T200227Z
UID:853-1574274600-1574283600@www.wittenberge-pioneers.de
SUMMARY:Eine Einführung ins Online Marketing am 20. November
DESCRIPTION:Das Thema Online Marketing wird für viele Firmen und Selbstständige immer wichtiger. Doch was steckt dahinter und wie fängt man? \nDas Projekt „Summer of Pioneers„ hat Nicolas Papke zu einem Vortrag eingeladen\, um seine Erfahrungen mit Interessierten zu teilen. Seit über 5 Jahren ist er im Online Marketing aktiv und setzt dies erfolgreich für seine Event-Firma ein. Mit misterneo.com organisiert er deutschlandweit in über 15 Städten Spaß Events für Junggesellenabschiede/Teams und findet seine Kunden hauptsächlich Online. \nIn diesem 90 Minuten Vortrag erklärt er leicht verständlich die Grundlagen des Online Marketings. Ziel ist es Unternehmen\, sowie Freelancern\, die Basics des Online Marketing näherzubringen und zu bestärken\, damit anzufangen. Inhalte: Google\, Social Media\, Webseite u.v.m \nAblauf:\n18.30 – 19.00 Ankommen & Netzwerken\n19.00 – 20.30 Vortrag\nAb 20.30 Fragen & Netzwerken \nMeldet Euch an und / oder gebt die Info an andere Interessierte weiter! \n  \nDie Teilnehmerzahl für diese Veranstaltung ist begrenzt. Wir bitten um eine frühzeitige und verbindliche Anmeldung. \n\n    Hinweis: Für diesen Inhalt ist JavaScript erforderlich.
URL:https://www.wittenberge-pioneers.de/event/eine-einfuehrung-ins-online-marketing/
LOCATION:Coworking Space Wittenberge (im Speicher der Alten Ölmühle)\, Bad Wilsnacker Str. 52\, 2. O.G.\, Wittenberge\, 19322\, Deutschland
CATEGORIES:Treffen,Veranstaltung,Workshop
ATTACH;FMTTYPE=image/jpeg:https://www.wittenberge-pioneers.de/wp-content/uploads/close-up-commerce-data-266176-e1572297767421.jpg
END:VEVENT
END:VCALENDAR